BEGIN:VCALENDAR
VERSION:2.0
PRODID:-//SGV Berlin e.V. - ECPv5.14.0.3//NONSGML v1.0//EN
CALSCALE:GREGORIAN
METHOD:PUBLISH
X-WR-CALNAME:SGV Berlin e.V.
X-ORIGINAL-URL:https://sgv-berlin.de
X-WR-CALDESC:Veranstaltungen für SGV Berlin e.V.
BEGIN:VTIMEZONE
TZID:Europe/Berlin
BEGIN:DAYLIGHT
TZOFFSETFROM:+0100
TZOFFSETTO:+0200
TZNAME:CEST
DTSTART:20200329T010000
END:DAYLIGHT
BEGIN:STANDARD
TZOFFSETFROM:+0200
TZOFFSETTO:+0100
TZNAME:CET
DTSTART:20201025T010000
END:STANDARD
END:VTIMEZONE
BEGIN:VEVENT
DTSTART;TZID=Europe/Berlin:20200314T110000
DTEND;TZID=Europe/Berlin:20200314T150000
DTSTAMP:20260423T154450
CREATED:20200108T174334Z
LAST-MODIFIED:20200108T174514Z
UID:280-1584183600-1584198000@sgv-berlin.de
SUMMARY:Wanderung über die Püttberge nach Wilhelmshagen
DESCRIPTION:Wir wandern in Berlin Köpenick vom S-Bahnhof Rahnsdorf über die Püttberge nach Wilhelmshagen. \nDie Püttberge sind Binnendünen im Berliner Urstromtal und mit ihrer relativen Höhe von über 30 Metern die größten Dünen in Berlin und Brandenburg. \n\nSamstag 14.03.2020\nTreffpunkt: 11 Uhr S-Bahnhof Rahnsdorf\nca. 9 km\nZiel: S-Bahnhof Wilhelmshagen\nRucksackverpflegung\nWanderführung: Heike John\nKosten: für Vereinsmitglieder kostenfrei\, Gäste 3 €\, Anmeldung per Email an info@sgv-berlin.de
URL:https://sgv-berlin.de/event/wanderung-ueber-die-puettberge-nach-wilhelmshagen/
LOCATION:S-Bahnhof Rahnsdorf
CATEGORIES:Streckenwanderung
ATTACH;FMTTYPE=image/jpeg:https://sgv-berlin.de/wp-content/uploads/2020/01/20190422_145511-e1578505333133.jpg
END:VEVENT
END:VCALENDAR