BEGIN:VCALENDAR
VERSION:2.0
PRODID:-//SGV Berlin e.V. - ECPv5.14.0.3//NONSGML v1.0//EN
CALSCALE:GREGORIAN
METHOD:PUBLISH
X-WR-CALNAME:SGV Berlin e.V.
X-ORIGINAL-URL:https://sgv-berlin.de
X-WR-CALDESC:Veranstaltungen für SGV Berlin e.V.
BEGIN:VTIMEZONE
TZID:Europe/Berlin
BEGIN:DAYLIGHT
TZOFFSETFROM:+0100
TZOFFSETTO:+0200
TZNAME:CEST
DTSTART:20200329T010000
END:DAYLIGHT
BEGIN:STANDARD
TZOFFSETFROM:+0200
TZOFFSETTO:+0100
TZNAME:CET
DTSTART:20201025T010000
END:STANDARD
END:VTIMEZONE
BEGIN:VEVENT
DTSTART;TZID=Europe/Berlin:20200222T110000
DTEND;TZID=Europe/Berlin:20200222T140000
DTSTAMP:20260423T140729
CREATED:20200104T153244Z
LAST-MODIFIED:20200215T213841Z
UID:272-1582369200-1582380000@sgv-berlin.de
SUMMARY:Ausgebucht! Stadtwanderung - Die Villen in der Berliner Vorstadt
DESCRIPTION:Die Wanderung ist ausgebucht\, Neuanmeldungen kommen auf die Warteliste! \nWir wandern durch die Berliner Vorstadt in Potsdam. Diese Tour führt uns vorbei an den repräsentativen Villen und herrschaftlichen Mietshäusern der Gegend um die Glienicker Brücke. \nNeben der beeindruckenden Architektur\, die wir bestaunen können\, erfahren wir viel Wissenswertes über ausgewählte Objekte auf der Tour. \n\nTermin: 22.02.2020\nStart: 11 Uhr Glienicker Brücke\, Potsdamer Seite\nStrecke: ca. 5 km\nWanderführer: Bianka Miltz und Sascha Zingler\nKosten: Vereinsmitglieder kostenfrei\, Gäste 3 €/Person\nAnmeldung bitte per Email info@sgv-berlin.de
URL:https://sgv-berlin.de/event/stadtwanderung-die-villen-in-der-berliner-vorstadt/
LOCATION:Glienicker Brücke\, Potsdam
CATEGORIES:Rundwanderung
ATTACH;FMTTYPE=image/jpeg:https://sgv-berlin.de/wp-content/uploads/2020/01/20190518_134507-e1578151944809.jpg
END:VEVENT
END:VCALENDAR