BEGIN:VCALENDAR
VERSION:2.0
PRODID:-//SGV Berlin e.V. - ECPv5.14.0.3//NONSGML v1.0//EN
CALSCALE:GREGORIAN
METHOD:PUBLISH
X-WR-CALNAME:SGV Berlin e.V.
X-ORIGINAL-URL:https://sgv-berlin.de
X-WR-CALDESC:Veranstaltungen für SGV Berlin e.V.
BEGIN:VTIMEZONE
TZID:Europe/Berlin
BEGIN:DAYLIGHT
TZOFFSETFROM:+0100
TZOFFSETTO:+0200
TZNAME:CEST
DTSTART:20190331T010000
END:DAYLIGHT
BEGIN:STANDARD
TZOFFSETFROM:+0200
TZOFFSETTO:+0100
TZNAME:CET
DTSTART:20191027T010000
END:STANDARD
END:VTIMEZONE
BEGIN:VEVENT
DTSTART;TZID=Europe/Berlin:20190601T110000
DTEND;TZID=Europe/Berlin:20190601T150000
DTSTAMP:20260423T133959
CREATED:20181210T121236Z
LAST-MODIFIED:20190304T152701Z
UID:103-1559386800-1559401200@sgv-berlin.de
SUMMARY:Durch den grünen Grunewald
DESCRIPTION:Wir wandern durch den frühsommerlichen Grunewald vorbei an Kiesgrube\, Teufelssee und Fenn. \nStart und Ziel: Schmetterlingsparkplatz \nLänge: ca. 7 km Rundwanderung (seniorenfreundlich aber nicht barrierefrei) \nWanderleitung; Caroline Schaminet\, info@sgv-berlin.de \nFür Vereinsmitglieder kostenlos\, Gäste 2 € \nRucksackverpflegung\, Zwischeneinkehr im “Bistro des Ökowerks” geplant. \nTeufelsberg mit Abhörstation Foto: Caroline Schaminet\n 
URL:https://sgv-berlin.de/event/durch-den-gruenen-grunewald/
LOCATION:Schmetterlingsparkplatz
CATEGORIES:Rundwanderung
ATTACH;FMTTYPE=image/jpeg:https://sgv-berlin.de/wp-content/uploads/2018/12/IMG_0776-e1544443872846.jpg
END:VEVENT
END:VCALENDAR